BEGIN:VCALENDAR
VERSION:2.0
PRODID:-//Canning Vale College - ECPv6.15.20//NONSGML v1.0//EN
CALSCALE:GREGORIAN
METHOD:PUBLISH
X-WR-CALNAME:Canning Vale College
X-ORIGINAL-URL:https://cvc.wa.edu.au
X-WR-CALDESC:Events for Canning Vale College
REFRESH-INTERVAL;VALUE=DURATION:PT1H
X-Robots-Tag:noindex
X-PUBLISHED-TTL:PT1H
BEGIN:VTIMEZONE
TZID:Australia/Perth
BEGIN:STANDARD
TZOFFSETFROM:+0800
TZOFFSETTO:+0800
TZNAME:AWST
DTSTART:20210101T000000
END:STANDARD
END:VTIMEZONE
BEGIN:VEVENT
DTSTART;TZID=Australia/Perth:20221025T090000
DTEND;TZID=Australia/Perth:20221025T100000
DTSTAMP:20260422T152514
CREATED:20210225T075036Z
LAST-MODIFIED:20220921T014200Z
UID:1077-1666688400-1666692000@cvc.wa.edu.au
SUMMARY:College Tours
DESCRIPTION:College Tours are run at 9:00am. \n2022 College Tour Dates: \n\nTuesday 15th February 2022\nTuesday 10th May 2022\nTuesday 2nd August 2022\nTuesday 25th October 2022\n\nPlease book your attendance at a session via the following link: https://www.trybooking.com/BVBOD
URL:https://cvc.wa.edu.au/event/college-tours/
LOCATION:Canning Vale College\, 26 Dumbarton Road\, CANNING VALE\, WA\, 6155\, Australia
CATEGORIES:Parent Events
ATTACH;FMTTYPE=image/jpeg:https://cvc.wa.edu.au/wp-content/uploads/2021/02/sessiontimes.jpg
END:VEVENT
BEGIN:VEVENT
DTSTART;TZID=Australia/Perth:20221101T173000
DTEND;TZID=Australia/Perth:20221101T183000
DTSTAMP:20260422T152514
CREATED:20221020T043427Z
LAST-MODIFIED:20221020T043427Z
UID:4501-1667323800-1667327400@cvc.wa.edu.au
SUMMARY:Year 11 Dance and Drama Night Show
DESCRIPTION:https://www.trybooking.com/CDROL
URL:https://cvc.wa.edu.au/event/year-11-dance-and-drama-night-show/
LOCATION:Canning Vale College\, 26 Dumbarton Road\, CANNING VALE\, WA\, 6155\, Australia
END:VEVENT
BEGIN:VEVENT
DTSTART;TZID=Australia/Perth:20221102T180000
DTEND;TZID=Australia/Perth:20221102T190000
DTSTAMP:20260422T152514
CREATED:20221020T043412Z
LAST-MODIFIED:20221020T043505Z
UID:4499-1667412000-1667415600@cvc.wa.edu.au
SUMMARY:Senior Circus Troupe Night Show
DESCRIPTION:https://www.trybooking.com/CDROV
URL:https://cvc.wa.edu.au/event/senior-circus-troupe-night-show/
LOCATION:Canning Vale College\, 26 Dumbarton Road\, CANNING VALE\, WA\, 6155\, Australia
END:VEVENT
BEGIN:VEVENT
DTSTART;TZID=Australia/Perth:20221114T180000
DTEND;TZID=Australia/Perth:20221114T190000
DTSTAMP:20260422T152514
CREATED:20221026T041249Z
LAST-MODIFIED:20221026T041754Z
UID:4518-1668448800-1668452400@cvc.wa.edu.au
SUMMARY:Cloudy Day
DESCRIPTION:Performances of the Specialist Year 7 Music Classes
URL:https://cvc.wa.edu.au/event/cloudy-day-performances-of-the-specialist-year-7-music-classes/
LOCATION:Canning Vale College\, 26 Dumbarton Road\, CANNING VALE\, WA\, 6155\, Australia
CATEGORIES:Parent Events,Student Events
ATTACH;FMTTYPE=image/jpeg:https://cvc.wa.edu.au/wp-content/uploads/2022/10/01-Cloudy-Day-web.jpg
END:VEVENT
BEGIN:VEVENT
DTSTART;TZID=Australia/Perth:20221117T180000
DTEND;TZID=Australia/Perth:20221117T190000
DTSTAMP:20260422T152514
CREATED:20221109T020506Z
LAST-MODIFIED:20221109T020506Z
UID:4561-1668708000-1668711600@cvc.wa.edu.au
SUMMARY:Junior Troupe Showcase 2022
DESCRIPTION:Junior Performing Arts troupe have been building their skills and devising pieces to share with a live audience. You will see a mix of Circus\, Dance\, and Drama combined to make one fabulous showcase for 2022.
URL:https://cvc.wa.edu.au/event/junior-troupe-showcase-2022/
LOCATION:Canning Vale College\, 26 Dumbarton Road\, CANNING VALE\, WA\, 6155\, Australia
CATEGORIES:Parent Events,Student Events
END:VEVENT
BEGIN:VEVENT
DTSTART;TZID=Australia/Perth:20221121T180000
DTEND;TZID=Australia/Perth:20221121T190000
DTSTAMP:20260422T152514
CREATED:20221026T042103Z
LAST-MODIFIED:20221026T043707Z
UID:4523-1669053600-1669057200@cvc.wa.edu.au
SUMMARY:As It Was
DESCRIPTION:Performances of the Junior and Intermediate Concert Bands and Classical Guitar Ensemble
URL:https://cvc.wa.edu.au/event/as-it-was/
LOCATION:Canning Vale College\, 26 Dumbarton Road\, CANNING VALE\, WA\, 6155\, Australia
CATEGORIES:Parent Events,Student Events
ATTACH;FMTTYPE=image/jpeg:https://cvc.wa.edu.au/wp-content/uploads/2022/10/02-As-it-Was-copy-web.jpg
END:VEVENT
BEGIN:VEVENT
DTSTART;TZID=Australia/Perth:20221122T180000
DTEND;TZID=Australia/Perth:20221122T190000
DTSTAMP:20260422T152515
CREATED:20221109T020620Z
LAST-MODIFIED:20221109T020620Z
UID:4562-1669140000-1669143600@cvc.wa.edu.au
SUMMARY:Year 10 Performing Arts Showcase 2022
DESCRIPTION:Year 10 Drama\, Dance and Circus students will showcase a selection of pieces that they have been working on this semester.
URL:https://cvc.wa.edu.au/event/year-10-performing-arts-showcase-2022/
LOCATION:Canning Vale College\, 26 Dumbarton Road\, CANNING VALE\, WA\, 6155\, Australia
CATEGORIES:Parent Events,Student Events
END:VEVENT
BEGIN:VEVENT
DTSTART;TZID=Australia/Perth:20221123T180000
DTEND;TZID=Australia/Perth:20221123T193000
DTSTAMP:20260422T152515
CREATED:20221026T043849Z
LAST-MODIFIED:20221026T043849Z
UID:4524-1669226400-1669231800@cvc.wa.edu.au
SUMMARY:Reckless
DESCRIPTION:Performances of the Year 8 Specialist Music Classes + Year 10 Bands; The Cover Boys and Supervision Required
URL:https://cvc.wa.edu.au/event/reckless/
LOCATION:Canning Vale College\, 26 Dumbarton Road\, CANNING VALE\, WA\, 6155\, Australia
CATEGORIES:Parent Events,Student Events
ATTACH;FMTTYPE=image/jpeg:https://cvc.wa.edu.au/wp-content/uploads/2022/10/03-Reckless-web.jpg
END:VEVENT
BEGIN:VEVENT
DTSTART;TZID=Australia/Perth:20221128T180000
DTEND;TZID=Australia/Perth:20221128T190000
DTSTAMP:20260422T152515
CREATED:20221026T044006Z
LAST-MODIFIED:20221026T044006Z
UID:4525-1669658400-1669662000@cvc.wa.edu.au
SUMMARY:Let's Get Loud
DESCRIPTION:Performances of the Senior Concert Band and Vocal Ensemble with Dance Students
URL:https://cvc.wa.edu.au/event/lets-get-loud/
LOCATION:Canning Vale College\, 26 Dumbarton Road\, CANNING VALE\, WA\, 6155\, Australia
CATEGORIES:Parent Events,Student Events
ATTACH;FMTTYPE=image/jpeg:https://cvc.wa.edu.au/wp-content/uploads/2022/10/04-Lets-Get-Loud-web.jpg
END:VEVENT
BEGIN:VEVENT
DTSTART;TZID=Australia/Perth:20221129T183000
DTEND;TZID=Australia/Perth:20221129T203000
DTSTAMP:20260422T152515
CREATED:20221012T071607Z
LAST-MODIFIED:20221012T071607Z
UID:4494-1669746600-1669753800@cvc.wa.edu.au
SUMMARY:Valedictory Ceremony 2022
DESCRIPTION:Valedictory Ceremony for Year 12 Students
URL:https://cvc.wa.edu.au/event/valedictory-ceremony-2022/
LOCATION:Curtin University\, Kent Street\, Bentley\, Western Australia\, 6102\, Australia
CATEGORIES:Parent Events,Student Events
END:VEVENT
BEGIN:VEVENT
DTSTART;TZID=Australia/Perth:20221130T180000
DTEND;TZID=Australia/Perth:20221130T193000
DTSTAMP:20260422T152515
CREATED:20221026T044109Z
LAST-MODIFIED:20221026T044109Z
UID:4526-1669831200-1669836600@cvc.wa.edu.au
SUMMARY:Island in the Sun
DESCRIPTION:Performances of the Specialist Year 9 Music Students with Year 10 Bands; Chameleon and Final Draft
URL:https://cvc.wa.edu.au/event/island-in-the-sun/
LOCATION:Canning Vale College\, 26 Dumbarton Road\, CANNING VALE\, WA\, 6155\, Australia
CATEGORIES:Parent Events,Student Events
ATTACH;FMTTYPE=image/jpeg:https://cvc.wa.edu.au/wp-content/uploads/2022/10/05-island-in-the-sun-copy-web.jpg
END:VEVENT
BEGIN:VEVENT
DTSTART;TZID=Australia/Perth:20221201T173000
DTEND;TZID=Australia/Perth:20221201T183000
DTSTAMP:20260422T152515
CREATED:20221109T020857Z
LAST-MODIFIED:20221123T071435Z
UID:4563-1669915800-1669919400@cvc.wa.edu.au
SUMMARY:Year 9 Performing Arts Showcase 2022
DESCRIPTION:The Year 9 Performing Arts students will showcase their classwork for semester 2 2022. Drama and Circus will present Children’s Theatre style performances and dance students will share their chorographical works.
URL:https://cvc.wa.edu.au/event/year-9-performing-arts-showcase-2022/
LOCATION:Canning Vale College\, 26 Dumbarton Road\, CANNING VALE\, WA\, 6155\, Australia
CATEGORIES:Parent Events,Student Events
END:VEVENT
BEGIN:VEVENT
DTSTART;TZID=Australia/Perth:20221207T180000
DTEND;TZID=Australia/Perth:20221207T191500
DTSTAMP:20260422T152515
CREATED:20221109T020959Z
LAST-MODIFIED:20221109T020959Z
UID:4564-1670436000-1670440500@cvc.wa.edu.au
SUMMARY:Lower School Drama Night
DESCRIPTION:Our Year 7 & 8 Drama students hit the stage to perform their fractured fairy tale and Medieval Drama Plays.
URL:https://cvc.wa.edu.au/event/lower-school-drama-night-3/
LOCATION:Canning Vale College\, 26 Dumbarton Road\, CANNING VALE\, WA\, 6155\, Australia
CATEGORIES:Parent Events,Student Events
END:VEVENT
BEGIN:VEVENT
DTSTART;TZID=Australia/Perth:20230301T123000
DTEND;TZID=Australia/Perth:20230301T170000
DTSTAMP:20260422T152515
CREATED:20230221T041414Z
LAST-MODIFIED:20230221T041745Z
UID:4742-1677673800-1677690000@cvc.wa.edu.au
SUMMARY:Careers Expo 2023
DESCRIPTION:All Year 9 and 10 students will be rotated through during Sessions 4 and 5 in 30-minute blocks. Remaining students will have access to the Expo during the lunch break and after school. This will be a great event for our students to investigate future pathways.\n\n\nParents and Family Members are invited to attend after 3.00pm.\n\n\n\n 
URL:https://cvc.wa.edu.au/event/careers-expo-2023/
LOCATION:Canning Vale College\, 26 Dumbarton Road\, CANNING VALE\, WA\, 6155\, Australia
ATTACH;FMTTYPE=image/jpeg:https://cvc.wa.edu.au/wp-content/uploads/2023/02/web-careers.jpg
END:VEVENT
BEGIN:VEVENT
DTSTART;TZID=Australia/Perth:20230314T170000
DTEND;TZID=Australia/Perth:20230314T190000
DTSTAMP:20260422T152515
CREATED:20230221T044315Z
LAST-MODIFIED:20230303T030038Z
UID:4752-1678813200-1678820400@cvc.wa.edu.au
SUMMARY:Prospective Year 7 2024 Enrolment Evening- Click here to book
DESCRIPTION:Prospective Year 7 Enrolment Evening 6:00pm—includes information on Specialist Programs and an optional School Tour at 5:00pm. Please book: https://www.trybooking.com/CGBJK \nAn optional School Tour will be conducted on the night at 5:00pm. Please book:  https://www.trybooking.com/CGBIU  \nIf you wish to attend both the tour and information session\, please ensure you book for both sessions. \nClick the picture for access to links to reserve your spot!
URL:https://cvc.wa.edu.au/event/prospective-year-7-2024-enrolment-evening/
LOCATION:Canning Vale College\, 26 Dumbarton Road\, CANNING VALE\, WA\, 6155\, Australia
CATEGORIES:Parent Events
ATTACH;FMTTYPE=image/jpeg:https://cvc.wa.edu.au/wp-content/uploads/2023/02/2024-Y7-Parent-NIght.jpg
END:VEVENT
BEGIN:VEVENT
DTSTART;TZID=Australia/Perth:20230320T180000
DTEND;TZID=Australia/Perth:20230320T193000
DTSTAMP:20260422T152515
CREATED:20230302T002418Z
LAST-MODIFIED:20230303T030009Z
UID:4776-1679335200-1679340600@cvc.wa.edu.au
SUMMARY:Don’t Speak - Click here to book
DESCRIPTION:Performances of the Specialist Year 10\, 11 and 12 students. \nDate:  20 March 2023 \nTime: 6:00pm – 7:30pm \nVenue: Canning Vale College Performing Arts Centre \nCost: FREE – Click the picture for access to link to reserve your spot https://www.trybooking.com/CGLZV  \n 
URL:https://cvc.wa.edu.au/event/dont-speak/
LOCATION:Canning Vale College\, 26 Dumbarton Road\, CANNING VALE\, WA\, 6155\, Australia
CATEGORIES:Parent Events
ATTACH;FMTTYPE=image/jpeg:https://cvc.wa.edu.au/wp-content/uploads/2023/03/Dont-Speak-copy-web-scaled-e1677717529125.jpg
END:VEVENT
BEGIN:VEVENT
DTSTART;TZID=Australia/Perth:20230322T180000
DTEND;TZID=Australia/Perth:20230322T193000
DTSTAMP:20260422T152515
CREATED:20230302T004335Z
LAST-MODIFIED:20230303T025931Z
UID:4781-1679508000-1679513400@cvc.wa.edu.au
SUMMARY:Waiting for the Sun - Click here to book
DESCRIPTION:Performances of the Specialist Year 10\, 11 and 12 students \nDate: 22 March 2023 \nTime: 6:00pm – 7:30pm \nLocation:  Canning Vale College Performing Arts Centre \nCost: FREE – Click the picture for access to link to reserve your spot here https://www.trybooking.com/CGLZX \nBookings Open 9am Friday 3 March
URL:https://cvc.wa.edu.au/event/waiting-for-the-sun/
LOCATION:Canning Vale College\, 26 Dumbarton Road\, CANNING VALE\, WA\, 6155\, Australia
ATTACH;FMTTYPE=image/jpeg:https://cvc.wa.edu.au/wp-content/uploads/2023/03/WAITING-FOR-THE-SUN-e1677717737973.jpg
END:VEVENT
BEGIN:VEVENT
DTSTART;TZID=Australia/Perth:20230404T090000
DTEND;TZID=Australia/Perth:20230404T150000
DTSTAMP:20260422T152515
CREATED:20230330T004131Z
LAST-MODIFIED:20230330T004131Z
UID:4892-1680598800-1680620400@cvc.wa.edu.au
SUMMARY:World's Greatest Shave
DESCRIPTION:On Tuesday\, 4 April\, Canning Vale College will be taking part in the World’s Greatest Shave to help beat blood cancer. Every day\, 53 Aussies are diagnosed with blood cancer\, and 18 will lose their life. With no screening programs available and no means of prevention through lifestyle changes\, blood cancer is Australia’s hidden cancer crisis.\n\nStudents who want to cut or shave their hair must have permission from their parents or caregivers – Please collect a form from student support. If you want to be involved but are not keen on shaving or cutting your hair\, there will be hair colouring and crazy hairstyles available for a gold coin donation.\n\nYou have the power to help us make an extraordinary difference. Big or small\, every donation counts. To donate please scan the QR Code on the attached poster or visit our team page\n\nIf you would like further information\, please visit the World’s Greatest Shave Website 
URL:https://cvc.wa.edu.au/event/worlds-greatest-shave/
LOCATION:Canning Vale College\, 26 Dumbarton Road\, CANNING VALE\, WA\, 6155\, Australia
CATEGORIES:Parent Events,Student Events
ATTACH;FMTTYPE=image/jpeg:https://cvc.wa.edu.au/wp-content/uploads/2023/03/shave.jpg
ORGANIZER;CN="Mr%2C Gray":MAILTO:admin.canningvale.college@education.wa.edu.au
END:VEVENT
BEGIN:VEVENT
DTSTART;TZID=Australia/Perth:20230517T180000
DTEND;TZID=Australia/Perth:20230517T190000
DTSTAMP:20260422T152515
CREATED:20230517T030655Z
LAST-MODIFIED:20230517T030655Z
UID:4959-1684346400-1684350000@cvc.wa.edu.au
SUMMARY:Year 10 Drama Production “DRESS REHEARSAL FOR MURDER”
DESCRIPTION:Our Year 10 Drama students will perform a Murder Mystery set at the isolated Bide A Wee Bed and Breakfast\, an eclectic group of guests\, including the famous young heiress\, Riviera Carlton\, gather for some rest and relaxation. Things may not be as relaxing as they had planned for. Produced by special arrangement with Pioneer Drama Service\, Inc.\, Englewood Colorado. \nGet your tickets through Trybooking – https://www.trybooking.com/CHZNN
URL:https://cvc.wa.edu.au/event/year-10-drama-production-dress-rehearsal-for-murder/
LOCATION:CVC Performing Arts Centre\, 26 Dumbarton Road\, Canning Vale\, WA\, 6155\, Australia
ATTACH;FMTTYPE=image/jpeg:https://cvc.wa.edu.au/wp-content/uploads/2023/05/Dress-Rehearsal-for-murder.jpg
END:VEVENT
BEGIN:VEVENT
DTSTART;TZID=Australia/Perth:20230613T180000
DTEND;TZID=Australia/Perth:20230613T193000
DTSTAMP:20260422T152515
CREATED:20230530T002646Z
LAST-MODIFIED:20230530T002646Z
UID:4974-1686679200-1686684600@cvc.wa.edu.au
SUMMARY:Term 2 Dance Concert
DESCRIPTION:The dance students from Year 9 – 12 will be showcasing their work from semester one. This show features work the students have choreographed in the styles of Jazz\, Hip Hop\, and Contemporary. \nTickets are $5.00 and go on sale from 9AM Wednesday\, 31 May \nGet your tickets through Trybooking – https://www.trybooking.com/CITED 
URL:https://cvc.wa.edu.au/event/term-2-dance-concert/
LOCATION:CVC Performing Arts Centre\, 26 Dumbarton Road\, Canning Vale\, WA\, 6155\, Australia
CATEGORIES:Parent Events,Student Events
ATTACH;FMTTYPE=image/jpeg:https://cvc.wa.edu.au/wp-content/uploads/2023/05/semester-one-dance-night-show.jpg
END:VEVENT
BEGIN:VEVENT
DTSTART;TZID=Australia/Perth:20230614T200000
DTEND;TZID=Australia/Perth:20230614T200000
DTSTAMP:20260422T152515
CREATED:20230612T025847Z
LAST-MODIFIED:20230612T025847Z
UID:4994-1686772800-1686772800@cvc.wa.edu.au
SUMMARY:Year10 Parent Information Evening
DESCRIPTION:The Year 10 Parent Information Evening is a great opportunity for parents to meet with Teachers and Heads of Learning Areas to find out all about the subjects on offer to students in year 11. \nThis is a free event but please register your attendance here\, so we have an idea of how many people are coming –
URL:https://cvc.wa.edu.au/event/year10-parent-information-evening/
LOCATION:Amphitheatre\, Canning Vale College
ATTACH;FMTTYPE=image/jpeg:https://cvc.wa.edu.au/wp-content/uploads/2023/06/download.jpg
END:VEVENT
BEGIN:VEVENT
DTSTART;TZID=Australia/Perth:20230619T180000
DTEND;TZID=Australia/Perth:20230619T193000
DTSTAMP:20260422T152515
CREATED:20230526T040004Z
LAST-MODIFIED:20230526T040004Z
UID:4970-1687197600-1687203000@cvc.wa.edu.au
SUMMARY:Come a Little Closer
DESCRIPTION:Come a Little Closer\, a musical performance by the Certificate III Year 12 music students. \nDoors open at 5:45pm \nBooking start date is Friday\, 2 June \nTickets are FREE – Reserve your seat here \n 
URL:https://cvc.wa.edu.au/event/come-a-little-closer/
LOCATION:CVC Performing Arts Centre\, 26 Dumbarton Road\, Canning Vale\, WA\, 6155\, Australia
CATEGORIES:Parent Events,Student Events
ATTACH;FMTTYPE=image/jpeg:https://cvc.wa.edu.au/wp-content/uploads/2023/05/Come-a-little-closer-web-scaled.jpg
END:VEVENT
BEGIN:VEVENT
DTSTART;TZID=Australia/Perth:20230621T180000
DTEND;TZID=Australia/Perth:20230621T190000
DTSTAMP:20260422T152515
CREATED:20230608T031047Z
LAST-MODIFIED:20230608T031047Z
UID:4991-1687370400-1687374000@cvc.wa.edu.au
SUMMARY:Lower School Drama Night
DESCRIPTION:Our Year 7 & 8 Drama students hit the stage to perform their fractured fairy tale and Medieval Drama Plays. \nTickets are $5.00 and go on sale Friday 9 June – Click here to purchase your tickets.
URL:https://cvc.wa.edu.au/event/lower-school-drama-night-4/
LOCATION:CVC Performing Arts Centre\, 26 Dumbarton Road\, Canning Vale\, WA\, 6155\, Australia
CATEGORIES:Parent Events,Student Events
ATTACH;FMTTYPE=image/png:https://cvc.wa.edu.au/wp-content/uploads/2023/06/Copy-of-ower-School-Drama-Night-2022.png
END:VEVENT
BEGIN:VEVENT
DTSTART;TZID=Australia/Perth:20230626T180000
DTEND;TZID=Australia/Perth:20230626T190000
DTSTAMP:20260422T152515
CREATED:20230607T062537Z
LAST-MODIFIED:20230607T062754Z
UID:4984-1687802400-1687806000@cvc.wa.edu.au
SUMMARY:24K Magic
DESCRIPTION:Performances of the Year 8 Specialist Music Class. Doors open at 5:45pm Booking start date is Friday\, 9 June Tickets are FREE – Reserve your seat here
URL:https://cvc.wa.edu.au/event/24k-magic/
LOCATION:CVC Performing Arts Centre\, 26 Dumbarton Road\, Canning Vale\, WA\, 6155\, Australia
CATEGORIES:Parent Events,Student Events
ATTACH;FMTTYPE=image/jpeg:https://cvc.wa.edu.au/wp-content/uploads/2023/06/24k.jpg
END:VEVENT
BEGIN:VEVENT
DTSTART;TZID=Australia/Perth:20230628T180000
DTEND;TZID=Australia/Perth:20230628T193000
DTSTAMP:20260422T152515
CREATED:20230615T040751Z
LAST-MODIFIED:20230615T040751Z
UID:5022-1687975200-1687980600@cvc.wa.edu.au
SUMMARY:Performing Arts Troupe Night Show
DESCRIPTION:Circus\, Dance\, and Drama are all coming together for their first show of the year for Performing Arts Troupe. Join them as the show becomes more contemporary and abstract as it progresses. \nTickets go on sale on Monday 19 June. This is a free event but please book to reserve a seat – Book Here
URL:https://cvc.wa.edu.au/event/performing-arts-troupe-night-show/
LOCATION:CVC Performing Arts Centre\, 26 Dumbarton Road\, Canning Vale\, WA\, 6155\, Australia
CATEGORIES:Parent Events,Student Events
ATTACH;FMTTYPE=image/png:https://cvc.wa.edu.au/wp-content/uploads/2023/06/Collision-Circus-.png
END:VEVENT
BEGIN:VEVENT
DTSTART;TZID=Australia/Perth:20230802T180000
DTEND;TZID=Australia/Perth:20230802T193000
DTSTAMP:20260422T152515
CREATED:20230317T042855Z
LAST-MODIFIED:20230317T044206Z
UID:4867-1690999200-1691004600@cvc.wa.edu.au
SUMMARY:University Parent Information Evening
DESCRIPTION:UWA\, Murdoch\, Notre Dame\, Curtin and ECU will be presenting to parents and students from yrs 10 – 12. There will be a 30-minute general presentation\, 15-minute individual presentation\, then a mini expo for 45 minutes. Students are able to attend with parents but will also need a ticket. \nThis will be held in the Galileo Amphitheatre which holds only 120 people so please secure your spot here: https://www.trybooking.com/CGXCJ \n\nBookings open Monday 26 June at 9:00am
URL:https://cvc.wa.edu.au/event/university-parent-information-evening/
LOCATION:Amphitheatre\, Canning Vale College
CATEGORIES:Parent Events
ATTACH;FMTTYPE=image/jpeg:https://cvc.wa.edu.au/wp-content/uploads/2023/03/processed-5c110dde-3dd6-4c2b-8549-2b55df190aa5_sC2Eulyj-scaled.jpeg
END:VEVENT
BEGIN:VEVENT
DTSTART;TZID=Australia/Perth:20230807T080000
DTEND;TZID=Australia/Perth:20230823T170000
DTSTAMP:20260422T152515
CREATED:20230803T064522Z
LAST-MODIFIED:20230803T064522Z
UID:5065-1691395200-1692810000@cvc.wa.edu.au
SUMMARY:2023 Athletics Carnival Upcoming Events
DESCRIPTION:
URL:https://cvc.wa.edu.au/event/2023-athletics-carnival-upcoming-events/
LOCATION:Canning Vale College\, 26 Dumbarton Road\, CANNING VALE\, WA\, 6155\, Australia
CATEGORIES:Parent Events
ATTACH;FMTTYPE=image/png:https://cvc.wa.edu.au/wp-content/uploads/2023/08/2023-CVC-Athletics-Carnival.png
END:VEVENT
BEGIN:VEVENT
DTSTART;TZID=Australia/Perth:20230810T180000
DTEND;TZID=Australia/Perth:20230810T200000
DTSTAMP:20260422T152515
CREATED:20230626T065507Z
LAST-MODIFIED:20230626T065507Z
UID:5035-1691690400-1691697600@cvc.wa.edu.au
SUMMARY:The Line Up
DESCRIPTION:Line Up – Thursday\, 10 August @6PM – Fremantle Prison  \nGet in quick for your tickets to the musical performances from the Year 10 and Year 11 Certificate students. \nThere are only 65 seats available\, so we ask that you please limit your tickets to 2 per student. If any tickets remain\, they will be released for further bookings closer to the event.  \nTickets go on sale Thursday\, 29 June through Trybooking – www.trybooking.com/CJMYN
URL:https://cvc.wa.edu.au/event/the-line-up/
LOCATION:Fremantle Prison\, 1 The Terrace\, Fremantle\, WA\, 6160\, Australia
CATEGORIES:Parent Events,Student Events
ATTACH;FMTTYPE=image/jpeg:https://cvc.wa.edu.au/wp-content/uploads/2023/06/line-up.jpg
END:VEVENT
BEGIN:VEVENT
DTSTART;TZID=Australia/Perth:20230814T180000
DTEND;TZID=Australia/Perth:20230814T193000
DTSTAMP:20260422T152515
CREATED:20230724T031402Z
LAST-MODIFIED:20230724T031402Z
UID:5041-1692036000-1692041400@cvc.wa.edu.au
SUMMARY:Welcome to Paradise
DESCRIPTION:Welcome to Paradise – Performances of the Specialist Year 9 Music Class \nMonday 14th August in the Canning Vale College Performing Arts Centre 6pm – 7:30pm. \nTickets are free\, however to reserve your seat please book from 9am Friday 28th July 2023 through Trybooking – https://www.trybooking.com/CKDQR
URL:https://cvc.wa.edu.au/event/welcome-to-paradise/
LOCATION:CVC Performing Arts Centre\, 26 Dumbarton Road\, Canning Vale\, WA\, 6155\, Australia
CATEGORIES:Parent Events,Student Events
ATTACH;FMTTYPE=image/jpeg:https://cvc.wa.edu.au/wp-content/uploads/2023/07/Year-9-Show-copy-scaled.jpg
END:VEVENT
BEGIN:VEVENT
DTSTART;VALUE=DATE:20230822
DTEND;VALUE=DATE:20230826
DTSTAMP:20260422T152515
CREATED:20230821T044636Z
LAST-MODIFIED:20230821T044636Z
UID:5125-1692662400-1693007999@cvc.wa.edu.au
SUMMARY:2023 Book Week in the CVC Library
DESCRIPTION:
URL:https://cvc.wa.edu.au/event/2023-book-week-in-the-cvc-library/
LOCATION:Canning Vale College\, 26 Dumbarton Road\, CANNING VALE\, WA\, 6155\, Australia
CATEGORIES:Student Events
ATTACH;FMTTYPE=image/png:https://cvc.wa.edu.au/wp-content/uploads/2023/08/2023-Book-Week-CVC.png
END:VEVENT
END:VCALENDAR