BEGIN:VCALENDAR
VERSION:2.0
PRODID:-//Canning Vale College - ECPv6.15.20//NONSGML v1.0//EN
CALSCALE:GREGORIAN
METHOD:PUBLISH
X-ORIGINAL-URL:https://cvc.wa.edu.au
X-WR-CALDESC:Events for Canning Vale College
REFRESH-INTERVAL;VALUE=DURATION:PT1H
X-Robots-Tag:noindex
X-PUBLISHED-TTL:PT1H
BEGIN:VTIMEZONE
TZID:Australia/Perth
BEGIN:STANDARD
TZOFFSETFROM:+0800
TZOFFSETTO:+0800
TZNAME:AWST
DTSTART:20240101T000000
END:STANDARD
END:VTIMEZONE
BEGIN:VEVENT
DTSTART;TZID=Australia/Perth:20251120T180000
DTEND;TZID=Australia/Perth:20251120T190000
DTSTAMP:20260422T005117
CREATED:20251118T014017Z
LAST-MODIFIED:20251118T014017Z
UID:7851-1763661600-1763665200@cvc.wa.edu.au
SUMMARY:Performing Arts Troupe - Junior Concert
DESCRIPTION:A night full of dance\, circus and drama presented by the junior students of the Performing Arts Troupe. \nTicket sales available from 11am\, 13 November 2025 \nTicket link: https://www.trybooking.com/DHLKF
URL:https://cvc.wa.edu.au/event/performing-arts-troupe-junior-concert/
LOCATION:Amphitheatre\, Canning Vale College
ATTACH;FMTTYPE=image/jpeg:https://cvc.wa.edu.au/wp-content/uploads/2025/11/Junior-Troupe-scaled.jpg
END:VEVENT
BEGIN:VEVENT
DTSTART;TZID=Australia/Perth:20251124T180000
DTEND;TZID=Australia/Perth:20251124T191500
DTSTAMP:20260422T005117
CREATED:20251103T074736Z
LAST-MODIFIED:20251103T075459Z
UID:7759-1764007200-1764011700@cvc.wa.edu.au
SUMMARY:From the Start - Wind and String Ensembles
DESCRIPTION:Performances of our Wind Ensemble and Percussion Ensemble. \nTicket sales are available from 9 am Friday 7 November 2025. \nTicketing Link: https://www.trybooking.com/DHELB 
URL:https://cvc.wa.edu.au/event/from-the-start/
LOCATION:Amphitheatre\, Canning Vale College
ATTACH;FMTTYPE=image/jpeg:https://cvc.wa.edu.au/wp-content/uploads/2025/11/From-The-Start-print.jpg
END:VEVENT
BEGIN:VEVENT
DTSTART;TZID=Australia/Perth:20251126T180000
DTEND;TZID=Australia/Perth:20251126T190000
DTSTAMP:20260422T005117
CREATED:20251118T014513Z
LAST-MODIFIED:20251118T014513Z
UID:7855-1764180000-1764183600@cvc.wa.edu.au
SUMMARY:Year 9 and 10 Circus Performance
DESCRIPTION:Join the year 9 and 10 circus classes as they present a variety of performances in the styles of traditional and contemporary circus. \nTicket sales available from 11 am\, 13 November 2025 \nTicketing link: https://www.trybooking.com/DHLKI
URL:https://cvc.wa.edu.au/event/year-9-and-10-circus-performance/
LOCATION:Amphitheatre\, Canning Vale College
ATTACH;FMTTYPE=image/jpeg:https://cvc.wa.edu.au/wp-content/uploads/2025/11/9-and-10-Circus-scaled.jpg
END:VEVENT
BEGIN:VEVENT
DTSTART;TZID=Australia/Perth:20251127T173000
DTEND;TZID=Australia/Perth:20251127T183000
DTSTAMP:20260422T005117
CREATED:20251119T020523Z
LAST-MODIFIED:20251119T021131Z
UID:7860-1764264600-1764268200@cvc.wa.edu.au
SUMMARY:Year 10 Drama Duo Performance Night
DESCRIPTION:Year 10 Drama students will perform a selection of Duologues and Trio performances that they have been working on this term. \nTickets available from 9 am\, 14 November 2025. \nTicketing link: https://www.trybooking.com/DHNGE
URL:https://cvc.wa.edu.au/event/year-10-drama-duo-performance-night/
LOCATION:CVC Performing Arts Centre\, 26 Dumbarton Road\, Canning Vale\, WA\, 6155\, Australia
ATTACH;FMTTYPE=image/jpeg:https://cvc.wa.edu.au/wp-content/uploads/2025/11/Year-10-Drama-Poster-T4-1.jpg
END:VEVENT
BEGIN:VEVENT
DTSTART;TZID=Australia/Perth:20251201T180000
DTEND;TZID=Australia/Perth:20251201T191500
DTSTAMP:20260422T005117
CREATED:20251113T061448Z
LAST-MODIFIED:20251113T064635Z
UID:7845-1764612000-1764616500@cvc.wa.edu.au
SUMMARY:Feel Good Inc. - Specialist Year 7 Concert
DESCRIPTION:Performances of Specialist Year 7 Classes. \n\nPlease only book two seats for the first week of booking so all families have an opportunity to obtain tickets. After this more seats will be made available.\n\nTicket sales open Friday\, 14 November 2025. \nTicketing link: https://www.trybooking.com/DHJOT \nDoors open @ 5:45 pm \n 
URL:https://cvc.wa.edu.au/event/feel-good-inc-specialist-year-7-concert/
LOCATION:Amphitheatre\, Canning Vale College
ATTACH;FMTTYPE=image/jpeg:https://cvc.wa.edu.au/wp-content/uploads/2025/11/Feel-Good-Inc-Web.jpg
END:VEVENT
BEGIN:VEVENT
DTSTART;TZID=Australia/Perth:20251208T180000
DTEND;TZID=Australia/Perth:20251208T193000
DTSTAMP:20260422T005117
CREATED:20251113T061910Z
LAST-MODIFIED:20251113T061910Z
UID:7848-1765216800-1765222200@cvc.wa.edu.au
SUMMARY:Feeling Good - Funk Band Concert
DESCRIPTION:Performances by CVC’s Funk Band and special guests\, Driftwood. \nTicket sales open Thursday\, 20 November 2025 \nTicketing link: https://www.trybooking.com/DHJOH \nDoors open at 5:45 pm.
URL:https://cvc.wa.edu.au/event/feeling-good-funk-band-concert/
LOCATION:Amphitheatre\, Canning Vale College
ATTACH;FMTTYPE=image/jpeg:https://cvc.wa.edu.au/wp-content/uploads/2025/11/Feeling-Good-web.jpg
END:VEVENT
BEGIN:VEVENT
DTSTART;TZID=Australia/Perth:20251210T170000
DTEND;TZID=Australia/Perth:20251210T174500
DTSTAMP:20260422T005117
CREATED:20251119T020418Z
LAST-MODIFIED:20251208T063605Z
UID:7858-1765386000-1765388700@cvc.wa.edu.au
SUMMARY:Year 9 Children's Theatre Performance Night
DESCRIPTION:Year 9 Drama students are performing short plays that they have created to present positive messages to children about stranger danger\, healthy eating\, and being kind. Perfect for 0–8-year-olds\, so bring along the children to enjoy the show. \nTickets available from 9 am\, 16 November 2025. \nTicketing link: https://https://www.trybooking.com/DIBIY
URL:https://cvc.wa.edu.au/event/year-9-childrens-theatre-performance-night/
LOCATION:CVC Performing Arts Centre\, 26 Dumbarton Road\, Canning Vale\, WA\, 6155\, Australia
ATTACH;FMTTYPE=image/jpeg:https://cvc.wa.edu.au/wp-content/uploads/2025/11/Year-9-Drama-Poster-T4.jpg
END:VEVENT
BEGIN:VEVENT
DTSTART;TZID=Australia/Perth:20251211T170000
DTEND;TZID=Australia/Perth:20251211T200000
DTSTAMP:20260422T005117
CREATED:20251111T032820Z
LAST-MODIFIED:20251111T032820Z
UID:7800-1765472400-1765483200@cvc.wa.edu.au
SUMMARY:Year 10 Gala by the Green
DESCRIPTION:Year 10 Celebration “Gala by the Green” for 2025! \nA blissful evening with friends\, dancing and dining by the “Green” at Melville Glades Golf Club Clubhouse! \nDress to Impress – Coctail/Smart Casual \nA live DJ\, dancefloor\, canapes\, soft drinks and desserts included. \nTicket envelopes and permission forms due to go home with students on 18 November 2025.
URL:https://cvc.wa.edu.au/event/year-10-gala-by-the-green/
LOCATION:Melville Glades Golf Club\, 51 Beasley Road\, Leeming\, Western Australia\, 6149\, Australia
ATTACH;FMTTYPE=application/pdf:https://cvc.wa.edu.au/wp-content/uploads/2025/11/Dark-Gold-Environmental-Awards-Night-Invitation-1.pdf
END:VEVENT
BEGIN:VEVENT
DTSTART;TZID=Australia/Perth:20260217T090000
DTEND;TZID=Australia/Perth:20261027T103000
DTSTAMP:20260422T005117
CREATED:20260216T013745Z
LAST-MODIFIED:20260421T062716Z
UID:8259-1771318800-1793097000@cvc.wa.edu.au
SUMMARY:CVC Open School Day Tours for 2026
DESCRIPTION:We’re excited to welcome prospective parents and their families to CVC!\n\n\nCome along for a guided tour of our amazing facilities and get a real insight into what a school day looks like at CVC.\n\n\nTours start at 9:00 am at our front reception\, and generally finish at approximately 10:30 am.\n\n\nIt’s a great chance to see our community in action and ask any questions you may have.\n\n\n\n Please follow the website link below to secure your spot on your preferred date.\n\nhttps://www.trybooking.com/DIIAF 
URL:https://cvc.wa.edu.au/event/cvc-open-school-day-tour-term-1/
LOCATION:Canning Vale College\, 26 Dumbarton Road\, CANNING VALE\, WA\, 6155\, Australia
ATTACH;FMTTYPE=image/png:https://cvc.wa.edu.au/wp-content/uploads/2026/02/BOOK-A-TOUR-2026.png
END:VEVENT
BEGIN:VEVENT
DTSTART;TZID=Australia/Perth:20260218T081500
DTEND;TZID=Australia/Perth:20260218T154500
DTSTAMP:20260422T005117
CREATED:20260216T012326Z
LAST-MODIFIED:20260216T012326Z
UID:8256-1771402500-1771429500@cvc.wa.edu.au
SUMMARY:School Photo Day
DESCRIPTION:CVC’s Whole School Photo Day is Week 3\, Wednesday 18 February\, and will take place in our Archimedes building. All students\, Year 8 to Year 12\, will be photographed during class time. \nAll sibling photos (including Year 7s with a sibling) will be taken before School from 8:15 am\, during lunch or after school at 3:00 pm \nNOTE: Any Year 7 student who missed last week’s Year 7 photo day or is a new student\, can have their individual photos taken at the School Photo Catch Up Day on Monday 23 February 2026\, this will also be the day for our Student Council Photo. \nSchedule for the Day \n\nBefore School – Staff and Sibling Photos\nSession 1 = Year 12\nSession 2 = HUB and Year 11\nRECESS = NO PHOTOS\nSession 3 = Year 10\nSession 4 = Year 9\nLUNCH = Staff and Sibling photos\nSession 5 = Year 8\nAfter school = Sibling Photos
URL:https://cvc.wa.edu.au/event/school-photo-day/
LOCATION:Canning Vale College\, 26 Dumbarton Road\, CANNING VALE\, WA\, 6155\, Australia
ATTACH;FMTTYPE=image/png:https://cvc.wa.edu.au/wp-content/uploads/2026/02/photo-Day-1.png
END:VEVENT
BEGIN:VEVENT
DTSTART;VALUE=DATE:20260313
DTEND;VALUE=DATE:20260314
DTSTAMP:20260422T005117
CREATED:20260303T024429Z
LAST-MODIFIED:20260303T024429Z
UID:8297-1773360000-1773446399@cvc.wa.edu.au
SUMMARY:Pie (3.14) Day Cafe Special - Friday 13 March
DESCRIPTION:Celebrate Pi Day with Pie! \n\nOur maths team is diving into all things π\, and the café is joining the fun with a tasty sweet‑and‑savoury pie combo!\n\n\nTo enjoy a pie\, place your order over the counter before school or online before the cut‑off.\n\n\n\nLet’s make it a π‑fect celebration!\n\nPlease order before your Pi Day Meal Deal\, Friday 6 March 2026. \nOnline ordering via Quickcliq link below: Welcome to QuickCliq
URL:https://cvc.wa.edu.au/event/pie-3-14-day-cafe-special-friday-13-march/
LOCATION:WA
ATTACH;FMTTYPE=image/png:https://cvc.wa.edu.au/wp-content/uploads/2026/03/Screenshot-2026-03-03-101841.png
END:VEVENT
BEGIN:VEVENT
DTSTART;TZID=Australia/Perth:20260330T172000
DTEND;TZID=Australia/Perth:20260330T190000
DTSTAMP:20260422T005117
CREATED:20260320T070149Z
LAST-MODIFIED:20260320T070149Z
UID:8471-1774891200-1774897200@cvc.wa.edu.au
SUMMARY:2027 Prospective Parents Evening Tour and Info Evening
DESCRIPTION:Come and join us for our Prospective Parents Evening!! \nYou are welcome to a tour of Canning Vale College’s facilities\, followed by a presentation about learning opportunities and offerings at CVC for 2027. \nCollege Tour commences at 5:20 pm\nInformation Presentation at 6:00 pm \nYou may attend both the tour and presentation or just the tour or presentation separately. \n5:20pm to 7:00 pm – 30th March 2026\n\nPlease follow this link to book you place.\n\nhttps://www.trybooking.com/DKJRY
URL:https://cvc.wa.edu.au/event/2027-prospective-parents-evening-tour-and-info-evening/
LOCATION:Canning Vale College\, 26 Dumbarton Road\, CANNING VALE\, WA\, 6155\, Australia
ATTACH;FMTTYPE=image/png:https://cvc.wa.edu.au/wp-content/uploads/2026/03/Parent-INFO-NIGHT-2026-1.png
END:VEVENT
BEGIN:VEVENT
DTSTART;TZID=Australia/Perth:20260401T183000
DTEND;TZID=Australia/Perth:20260401T223000
DTSTAMP:20260422T005117
CREATED:20251212T061122Z
LAST-MODIFIED:20251217T065634Z
UID:8198-1775068200-1775082600@cvc.wa.edu.au
SUMMARY:2026 Year 12 Ball
DESCRIPTION:The glitziest event on our calendar… The 2026 Year 12 Ball! \nA fun-filled evening with a full seated dinner\, beverages\, awards and of course DANCING! \nPayment due date is: Tuesday 17 March 2026
URL:https://cvc.wa.edu.au/event/2026-year-12-ball/
LOCATION:The Esplanade Hotel\, 46-54 Marine Terrace\, Fremantle\, WA\, 6160\, Australia
ATTACH;FMTTYPE=image/jpeg:https://cvc.wa.edu.au/wp-content/uploads/2025/12/Black-Gold-Photocentric-Prom-Night-Celebration-Poster.jpg
END:VEVENT
BEGIN:VEVENT
DTSTART;TZID=Australia/Perth:20260505T180000
DTEND;TZID=Australia/Perth:20260505T191500
DTSTAMP:20260422T005117
CREATED:20260331T041812Z
LAST-MODIFIED:20260331T041812Z
UID:8552-1778004000-1778008500@cvc.wa.edu.au
SUMMARY:Still Into You - Year 11 Cert III Music Student Concert
DESCRIPTION:Performances by our Year 11 Cert III Music Students. \nfeaturing acts: Popular Girl Fever\, Seventeen & Undecided \nReserve your tickets here https://www.trybooking.com/DLBHX from 9:00am\, Thursday 2 April 2026 \nPlease note: We will be using stage gig lights that do flash. Please be aware of this if you are sensitive to lights as such.
URL:https://cvc.wa.edu.au/event/still-into-you-year-11-cert-iii-music-student-concert/
LOCATION:CVC Performing Arts Centre\, 26 Dumbarton Road\, Canning Vale\, WA\, 6155\, Australia
ATTACH;FMTTYPE=image/jpeg:https://cvc.wa.edu.au/wp-content/uploads/2026/03/Still-Into-You-.jpg
END:VEVENT
END:VCALENDAR